BEGIN:VCALENDAR
VERSION:2.0
PRODID:-//wp-events-plugin.com//7.2.3.1//EN
TZID:Europe/Madrid
X-WR-TIMEZONE:Europe/Madrid
BEGIN:VEVENT
UID:1225@fundacioncb.es
DTSTART;TZID=Europe/Madrid:20260417T200000
DTEND;TZID=Europe/Madrid:20260417T210000
DTSTAMP:20260326T102331Z
URL:https://fundacioncb.es/eventos/concierto-oscam-4/
SUMMARY:Concierto OSCAM
DESCRIPTION:La OSCAM (Orquesta Sinfónica de los Conservatorios de Almendra
 lejo y Mérida) es un proyecto educativo que une a alumnado de ambos centr
 os en un intercambio formativo centrado en la interpretación de repertori
 o sinfónico. En este concierto se podrán escuchar obras de compositores 
 como J. Barry\, J. Williams\, W. A. Mozart\, G. Verdi y P. I. Tchaikovsky.
ATTACH;FMTTYPE=image/jpeg:https://fundacioncb.es/wp-content/uploads/2026/0
 3/WhatsApp-Image-2026-03-16-at-14.18.39.jpeg
CATEGORIES:Conciertos
LOCATION:Centro Cultural "Santa Marina"\, Santa Marina 6\, Zafra\, España
X-APPLE-STRUCTURED-LOCATION;VALUE=URI;X-ADDRESS=Santa Marina 6\, Zafra\, Es
 paña;X-APPLE-RADIUS=100;X-TITLE=Centro Cultural \"Santa Marina\":geo:0,0
END:VEVENT
BEGIN:VTIMEZONE
TZID:Europe/Madrid
X-LIC-LOCATION:Europe/Madrid
BEGIN:DAYLIGHT
DTSTART:20260329T030000
TZOFFSETFROM:+0100
TZOFFSETTO:+0200
TZNAME:CEST
END:DAYLIGHT
END:VTIMEZONE
END:VCALENDAR