BEGIN:VCALENDAR
VERSION:2.0
PRODID:-//wp-events-plugin.com//7.2.3.1//EN
TZID:Europe/Madrid
X-WR-TIMEZONE:Europe/Madrid
BEGIN:VEVENT
UID:1203@fundacioncb.es
DTSTART;TZID=Europe/Madrid:20260410T200000
DTEND;TZID=Europe/Madrid:20260410T210000
DTSTAMP:20260325T085559Z
URL:https://fundacioncb.es/eventos/concierto-reunion-rodrigo-parejo-y-kari
 m-blal/
SUMMARY:Concierto "Reunion" Rodrigo Parejo y Karim Blal
DESCRIPTION:El flautista Rodrigo Parejo y el pianista Karim Blal presentan 
 Reunion\, un proyecto que une jazz contemporáneo\, música de cámara e i
 nfluencias de la música clásica con tradiciones sonoras del Mediterráne
 o\, Asia y Latinoamérica. Ambos músicos coincidieron en la escena intern
 acional de La Haya (Países Bajos) y\, tras desarrollar distintas trayecto
 rias internacionales\, retoman su colaboración con una propuesta basada e
 n composiciones originales y reinterpretaciones de músicas tradicionales 
 desde una perspectiva abierta y actual.\nRodrigo Parejo ha participado en 
 festivales como North Sea Jazz Festival\, Rainforest World Music Festival 
 y Festival Flamenco de Viena\, y ha colaborado en proyectos con figuras co
 mo Phil Woods\, Norma Winstone\, Alex Sipiagin y Steve Thornton\, desarrol
 lando un lenguaje propio que integra jazz\, sonoridades asiáticas y músi
 cas creativas. Karim Blal\, pianista italiano afincado en París\, ha trab
 ajado junto a artistas como Jazzmeia Horn y Gregory Hutchinson\, y forma p
 arte activa de la escena del jazz europeo actual\, participando en festiva
 les como Umbria Jazz y Siena Jazz.\nReunión es un diálogo musical donde 
 tradición\, jazz e improvisación se entrelazan con libertad y sofisticac
 ión.
ATTACH;FMTTYPE=image/jpeg:https://fundacioncb.es/wp-content/uploads/2026/0
 3/Illustrator_TK1g5ngu5H_1024x1024.jpeg
CATEGORIES:Conciertos
LOCATION:Centro Cultural "Santa Marina"\, Santa Marina 6\, Zafra\, España
X-APPLE-STRUCTURED-LOCATION;VALUE=URI;X-ADDRESS=Santa Marina 6\, Zafra\, Es
 paña;X-APPLE-RADIUS=100;X-TITLE=Centro Cultural \"Santa Marina\":geo:0,0
END:VEVENT
BEGIN:VTIMEZONE
TZID:Europe/Madrid
X-LIC-LOCATION:Europe/Madrid
BEGIN:DAYLIGHT
DTSTART:20260329T030000
TZOFFSETFROM:+0100
TZOFFSETTO:+0200
TZNAME:CEST
END:DAYLIGHT
END:VTIMEZONE
END:VCALENDAR