BEGIN:VCALENDAR
VERSION:2.0
PRODID:-//wp-events-plugin.com//7.2.3.1//EN
TZID:Europe/Madrid
X-WR-TIMEZONE:Europe/Madrid
BEGIN:VEVENT
UID:1224@fundacioncb.es
DTSTART;TZID=Europe/Madrid:20260424T190000
DTEND;TZID=Europe/Madrid:20260424T200000
DTSTAMP:20260326T100940Z
URL:https://fundacioncb.es/eventos/cuentacuentos-dona-bruja-quiere-amigos-
 concha-rodriguez/
SUMMARY:Cuentacuentos "Doña Bruja quiere amigos" Concha Rodríguez
DESCRIPTION:Concha Rodríguez\, actriz\, dramaturga\, directora y profesora
  de teatro\, presenta este cuentacuentos basado en su obra Doña Bruja qui
 ere amigos\, editada por la Editora Regional de Extremadura. La autora\, c
 on una amplia trayectoria en teatro y creación escénica\, propone una hi
 storia cercana y emotiva en la que se abordan valores como la amistad\, la
  empatía y la necesidad de relacionarse con los demás.\nA través de su 
 experiencia interpretativa y su vínculo con el teatro\, Rodríguez ofrece
  una narración viva y dinámica\, pensada para conectar con el público y
  fomentar la imaginación\, combinando literatura y puesta en escena en un
 a actividad dirigida a todos los públicos.
ATTACH;FMTTYPE=image/jpeg:https://fundacioncb.es/wp-content/uploads/2026/0
 3/Dona-Bruja-cuenta-cuentos_1024x1024.jpg
CATEGORIES:Otros
LOCATION:Centro Cultural "Santa Marina"\, Santa Marina 6\, Zafra\, España
X-APPLE-STRUCTURED-LOCATION;VALUE=URI;X-ADDRESS=Santa Marina 6\, Zafra\, Es
 paña;X-APPLE-RADIUS=100;X-TITLE=Centro Cultural \"Santa Marina\":geo:0,0
END:VEVENT
BEGIN:VTIMEZONE
TZID:Europe/Madrid
X-LIC-LOCATION:Europe/Madrid
BEGIN:DAYLIGHT
DTSTART:20260329T030000
TZOFFSETFROM:+0100
TZOFFSETTO:+0200
TZNAME:CEST
END:DAYLIGHT
END:VTIMEZONE
END:VCALENDAR