BEGIN:VCALENDAR
VERSION:2.0
PRODID:-//wp-events-plugin.com//7.2.3.1//EN
TZID:Europe/Madrid
X-WR-TIMEZONE:Europe/Madrid
BEGIN:VEVENT
UID:1223@fundacioncb.es
DTSTART;TZID=Europe/Madrid;VALUE=DATE:20260329
DTEND;TZID=Europe/Madrid;VALUE=DATE:20260510
DTSTAMP:20260326T091812Z
URL:https://fundacioncb.es/eventos/exposicion-se-llamaba-libertad-enrique-
 gavilan/
SUMMARY:Exposición: "Se llamaba Libertad" Enrique Gavilán
DESCRIPTION:La exposición “Se llamaba Libertad“ tiene como fuente prin
 cipal los contenidos del fotolibro del mismo nombre. El esquema propuesto 
 sigue una línea cronológica en la narración de la vida de Libertad Gonz
 ález\, alternada con acotaciones históricas que permiten dibujar el cont
 exto narrativo. El recorrido expositivo se divide en ocho bloques.
ATTACH;FMTTYPE=image/jpeg:https://fundacioncb.es/wp-content/uploads/2026/0
 3/Captura-de-pantalla-2026-03-26-101053.png
CATEGORIES:Exposiciones
LOCATION:Centro Cultural "Santa Marina"\, Santa Marina 6\, Zafra\, España
X-APPLE-STRUCTURED-LOCATION;VALUE=URI;X-ADDRESS=Santa Marina 6\, Zafra\, Es
 paña;X-APPLE-RADIUS=100;X-TITLE=Centro Cultural \"Santa Marina\":geo:0,0
END:VEVENT
BEGIN:VTIMEZONE
TZID:Europe/Madrid
X-LIC-LOCATION:Europe/Madrid
BEGIN:STANDARD
DTSTART:20251026T020000
TZOFFSETFROM:+0200
TZOFFSETTO:+0100
TZNAME:CET
END:STANDARD
BEGIN:DAYLIGHT
DTSTART:20260329T030000
TZOFFSETFROM:+0100
TZOFFSETTO:+0200
TZNAME:CEST
END:DAYLIGHT
END:VTIMEZONE
END:VCALENDAR