BEGIN:VCALENDAR
VERSION:2.0
PRODID:-//wp-events-plugin.com//7.2.3.1//EN
TZID:Europe/Madrid
X-WR-TIMEZONE:Europe/Madrid
BEGIN:VEVENT
UID:1222@fundacioncb.es
DTSTART;TZID=Europe/Madrid:20260411T120000
DTEND;TZID=Europe/Madrid:20260411T130000
DTSTAMP:20260327T102524Z
URL:https://fundacioncb.es/eventos/presentacion-se-llamaba-libertad-enriqu
 e-gavilan/
SUMMARY:Presentación "Homenaje a Libertad" - Enrique Gavilán
DESCRIPTION:Acto homenaje en torno al proyecto expositivo “Se llamaba Lib
 ertad”\, un proyecto de fotografía documental contemporánea que retrat
 a la vida de Libertad González\, una mujer zafrense cuya historia refleja
  cómo un nombre puede marcar un destino.
ATTACH;FMTTYPE=image/jpeg:https://fundacioncb.es/wp-content/uploads/2026/0
 3/Libertad-Gonzalez.png
CATEGORIES:Presentaciones
LOCATION:Centro Cultural "Santa Marina"\, Santa Marina 6\, Zafra\, España
X-APPLE-STRUCTURED-LOCATION;VALUE=URI;X-ADDRESS=Santa Marina 6\, Zafra\, Es
 paña;X-APPLE-RADIUS=100;X-TITLE=Centro Cultural \"Santa Marina\":geo:0,0
END:VEVENT
BEGIN:VTIMEZONE
TZID:Europe/Madrid
X-LIC-LOCATION:Europe/Madrid
BEGIN:DAYLIGHT
DTSTART:20260329T030000
TZOFFSETFROM:+0100
TZOFFSETTO:+0200
TZNAME:CEST
END:DAYLIGHT
END:VTIMEZONE
END:VCALENDAR