BEGIN:VCALENDAR
VERSION:2.0
PRODID:-//wp-events-plugin.com//7.2.3.1//EN
TZID:Europe/Madrid
X-WR-TIMEZONE:Europe/Madrid
BEGIN:VEVENT
UID:1233@fundacioncb.es
DTSTART;TZID=Europe/Madrid:20260425T200000
DTEND;TZID=Europe/Madrid:20260425T210000
DTSTAMP:20260327T090739Z
URL:https://fundacioncb.es/eventos/teatro-la-huella/
SUMMARY:Teatro "La Huella"
DESCRIPTION:“La Huella” se centra en el valor múltiple de la palabra. 
 En su denostado valor y\, por el contrario\, en su poder. Como herencia de
 l teatro tradicional inglés\, la mentira y la apariencia juegan un papel 
 esencial en nuestra obra. Aquí\, nada es real\, nada es lo que parece\, o
  todo es lo que es.
ATTACH;FMTTYPE=image/jpeg:https://fundacioncb.es/wp-content/uploads/2026/0
 3/carteleria-1_1024x1024.jpg
CATEGORIES:Otros
LOCATION:Centro Cultural "Santa Marina"\, Santa Marina 6\, Zafra\, España
X-APPLE-STRUCTURED-LOCATION;VALUE=URI;X-ADDRESS=Santa Marina 6\, Zafra\, Es
 paña;X-APPLE-RADIUS=100;X-TITLE=Centro Cultural \"Santa Marina\":geo:0,0
END:VEVENT
BEGIN:VTIMEZONE
TZID:Europe/Madrid
X-LIC-LOCATION:Europe/Madrid
BEGIN:DAYLIGHT
DTSTART:20260329T030000
TZOFFSETFROM:+0100
TZOFFSETTO:+0200
TZNAME:CEST
END:DAYLIGHT
END:VTIMEZONE
END:VCALENDAR